BEGIN:VCALENDAR
VERSION:2.0
PRODID:-//ChamberMaster//Event Calendar 2.0//EN
METHOD:PUBLISH
X-PUBLISHED-TTL:P3D
REFRESH-INTERVAL:P3D
CALSCALE:GREGORIAN
BEGIN:VEVENT
DTSTART;VALUE=DATE:20111118
DTEND;VALUE=DATE:20111120
TRANSP:TRANSPARENT
X-MICROSOFT-CDO-ALLDAYEVENT:TRUE
SUMMARY:Shirleen's Creations Holiday Boutique
DESCRIPTION:Shirleen's Creations Holiday Boutique\n\n"Shirleen & Jolene are at it again!"\n\n\n\n1922 Irving Street\n\n(Just off 19th Street)\n\n\n\nFriday\, November 18\n\n1 - 8 pm\n\n\n\nSaturday\, November 19\n\n8 am - 3 pm
X-ALT-DESC;FMTTYPE=text/html:Shirleen&#39\;s Creations Holiday Boutique<br />\n&quot\;Shirleen &amp\; Jolene are at it again!&quot\;<br />\n<br />\n1922 Irving Street<br />\n(Just off 19th Street)<br />\n<br />\nFriday\, November 18<br />\n1 - 8 pm<br />\n<br />\nSaturday\, November 19<br />\n8 am - 3 pm<br />\n
LOCATION:
UID:e.41.5229
SEQUENCE:3
DTSTAMP:20260424T100035Z
URL:https://business.beatricechamber.com/events/details/shirleen-s-creations-holiday-boutique-11-18-2011-5229
END:VEVENT

END:VCALENDAR
