BEGIN:VCALENDAR
VERSION:2.0
PRODID:-//ChamberMaster//Event Calendar 2.0//EN
METHOD:PUBLISH
X-PUBLISHED-TTL:P3D
REFRESH-INTERVAL:P3D
CALSCALE:GREGORIAN
BEGIN:VEVENT
DTSTART;VALUE=DATE:20120517
DTEND;VALUE=DATE:20120518
TRANSP:TRANSPARENT
X-MICROSOFT-CDO-ALLDAYEVENT:TRUE
SUMMARY:Shrine circus
DESCRIPTION:Shrine Circus presented by the Blue Valley Shriners\, contact Neil Henry\, 402-223-4337 for more information.
X-ALT-DESC;FMTTYPE=text/html:Shrine Circus presented by the Blue Valley Shriners\, contact Neil Henry\, 402-223-4337 for more information.
LOCATION:
UID:e.41.5264
SEQUENCE:3
DTSTAMP:20260422T142225Z
URL:https://business.beatricechamber.com/events/details/shrine-circus-05-17-2012-5264
END:VEVENT

END:VCALENDAR
