BEGIN:VCALENDAR
VERSION:2.0
PRODID:-//ChamberMaster//Event Calendar 2.0//EN
METHOD:PUBLISH
X-PUBLISHED-TTL:P3D
REFRESH-INTERVAL:P3D
CALSCALE:GREGORIAN
BEGIN:VEVENT
DTSTART;VALUE=DATE:20110316
DTEND;VALUE=DATE:20110321
TRANSP:TRANSPARENT
X-MICROSOFT-CDO-ALLDAYEVENT:TRUE
SUMMARY:Shrine Circus 2011
DESCRIPTION:9 Big Performances!\n\n\n\nWednesday\, March 16 to Sunday\, March 20\n\n\n\nPershing Center - Lincoln
X-ALT-DESC;FMTTYPE=text/html:9 Big Performances!<br />\n<br />\nWednesday\, March 16 to Sunday\, March 20<br />\n<br />\nPershing Center - Lincoln
LOCATION:
UID:e.41.4235
SEQUENCE:3
DTSTAMP:20260424T211523Z
URL:https://business.beatricechamber.com/events/details/shrine-circus-2011-03-16-2011-4235
END:VEVENT

END:VCALENDAR
