BEGIN:VCALENDAR
VERSION:2.0
PRODID:-//ChamberMaster//Event Calendar 2.0//EN
METHOD:PUBLISH
X-PUBLISHED-TTL:P3D
REFRESH-INTERVAL:P3D
CALSCALE:GREGORIAN
BEGIN:VEVENT
DTSTART;VALUE=DATE:20110609
DTEND;VALUE=DATE:20110610
TRANSP:TRANSPARENT
X-MICROSOFT-CDO-ALLDAYEVENT:TRUE
SUMMARY:Shrine Circus at Gage County Fairgrounds
DESCRIPTION:Shrine Circus Comes to Beatrice!\n\n\n\nThursday\, June 9\, 2011\n\nGage County Fairgrounds Horse Barn\n\n\n\n4:30 PM & 7:30 PM\n\nTickets: Children ages 3-12\, $5\; Adults $10\n\n\n\nQuestions?  Contact Jim Bower 402-228-2308
X-ALT-DESC;FMTTYPE=text/html:<span style="font-size: 9pt"><span style="color: #2d465a"><span style="font-family: arial\, sans-serif">Shrine Circus Comes to Beatrice!<br />\n<br />\nThursday\, June 9\, 2011</span></span></span><br />\n<em><span style="font-size: 9pt"><span style="color: #2d465a"><span style="font-family: arial\, sans-serif">Gage County Fairgrounds Horse Barn</span></span></span></em><br />\n<br />\n<span style="font-size: 9pt"><span style="color: #2d465a"><span style="font-family: arial\, sans-serif">4:30 PM &amp\; 7:30 PM<br />\nTickets: Children ages 3-12\, $5\; Adults $10<br />\n<br />\nQuestions?&nbsp\; Contact Jim Bower 402-228-2308</span></span></span>
LOCATION:
UID:e.41.4836
SEQUENCE:3
DTSTAMP:20260424T165609Z
URL:https://business.beatricechamber.com/events/details/shrine-circus-at-gage-county-fairgrounds-06-09-2011-4836
END:VEVENT

END:VCALENDAR
