BEGIN:VCALENDAR
VERSION:2.0
PRODID:-//ChamberMaster//Event Calendar 2.0//EN
METHOD:PUBLISH
X-PUBLISHED-TTL:P3D
REFRESH-INTERVAL:P3D
CALSCALE:GREGORIAN
BEGIN:VEVENT
DTSTART;VALUE=DATE:20120714
DTEND;VALUE=DATE:20120715
TRANSP:TRANSPARENT
X-MICROSOFT-CDO-ALLDAYEVENT:TRUE
SUMMARY:Sidewalk Sales! City Wide in Beatrice
DESCRIPTION:City-Wide Sidewalk Sales\n\n	Beatrice\, Nebraska\n\n	\n\n	Saturday\, July 14\n\n	\n\n	See www.beatricechamber.com for details on opportunities to win great prizes!
X-ALT-DESC;FMTTYPE=text/html:<p>\n	<span style="font-size: 16px"><span style="font-family: comic sans ms"><strong>City-Wide Sidewalk Sales</strong><br />\n	Beatrice\, Nebraska<br />\n	<br />\n	Saturday\, July 14</span></span><br />\n	<br />\n	See <a href="http://www.beatricechamber.com">www.beatricechamber.com</a> for details on opportunities to win great prizes!</p>\n
LOCATION:
UID:e.41.5434
SEQUENCE:3
DTSTAMP:20260422T114211Z
URL:https://business.beatricechamber.com/events/details/sidewalk-sales-city-wide-in-beatrice-07-14-2012-5434
END:VEVENT

END:VCALENDAR
