BEGIN:VCALENDAR
VERSION:2.0
PRODID:-//ChamberMaster//Event Calendar 2.0//EN
METHOD:PUBLISH
X-PUBLISHED-TTL:P3D
REFRESH-INTERVAL:P3D
CALSCALE:GREGORIAN
BEGIN:VEVENT
DTSTART:20110312T230000Z
DTEND:20110313T020000Z
X-MICROSOFT-CDO-ALLDAYEVENT:FALSE
SUMMARY:Silent auction and bake sale
DESCRIPTION:Silent auction and bake sale benefit for Kelsey Manchester:\n\n\n\nBarbecue pork sandwich meal\, Swanton Auditorium in Swanton. Freewill offering. Proceeds to Tri County fourth grade student to help cover hearing aids and medical expenses as she recovers from bacterial meningitis.
X-ALT-DESC;FMTTYPE=text/html:<strong>Silent auction and bake sale benefit for Kelsey Manchester:</strong><br />\n<br />\nBarbecue pork sandwich meal\, Swanton Auditorium in Swanton. Freewill offering. Proceeds to Tri County fourth grade student to help cover hearing aids and medical expenses as she recovers from bacterial meningitis.
LOCATION:
UID:e.41.4241
SEQUENCE:3
DTSTAMP:20260424T211829Z
URL:https://business.beatricechamber.com/events/details/silent-auction-and-bake-sale-03-12-2011-4241
END:VEVENT

END:VCALENDAR
