BEGIN:VCALENDAR
VERSION:2.0
PRODID:-//ChamberMaster//Event Calendar 2.0//EN
METHOD:PUBLISH
X-PUBLISHED-TTL:P3D
REFRESH-INTERVAL:P3D
CALSCALE:GREGORIAN
BEGIN:VEVENT
DTSTART:20110320T190000Z
DTEND:20110320T220000Z
X-MICROSOFT-CDO-ALLDAYEVENT:FALSE
SUMMARY:"Simply Beatrice and More" Photo Exhibit
DESCRIPTION:"Simply Beatrice and More" Photo Exhibit\n\n\n\nPhotos by Bernadette Korslund\n\nPottery by Patrick McKinney\n\n\n\nSunday\, March 20\n\n2 - 5 pm\n\n\n\nNora Price Room\n\nBeatrice Public Library
X-ALT-DESC;FMTTYPE=text/html:&quot\;Simply Beatrice and More&quot\; Photo Exhibit<br />\n<br />\nPhotos by Bernadette Korslund<br />\nPottery by Patrick McKinney<br />\n<br />\nSunday\, March 20<br />\n2 - 5 pm<br />\n<br />\nNora Price Room<br />\nBeatrice Public Library<br />\n
LOCATION:
UID:e.41.4251
SEQUENCE:3
DTSTAMP:20260424T211959Z
URL:https://business.beatricechamber.com/events/details/simply-beatrice-and-more-photo-exhibit-03-20-2011-4251
END:VEVENT

END:VCALENDAR
