BEGIN:VCALENDAR
VERSION:2.0
PRODID:-//ChamberMaster//Event Calendar 2.0//EN
METHOD:PUBLISH
X-PUBLISHED-TTL:P3D
REFRESH-INTERVAL:P3D
CALSCALE:GREGORIAN
BEGIN:VEVENT
DTSTART;VALUE=DATE:20090619
DTEND;VALUE=DATE:20090622
TRANSP:TRANSPARENT
X-MICROSOFT-CDO-ALLDAYEVENT:TRUE
SUMMARY:''Sin\, Sex & the CIA''
DESCRIPTION:Community Players presents"Sin\, Sex & the C.I.A."  Production sponsored by:
X-ALT-DESC;FMTTYPE=text/html:<div>Community Players presents</div><div>&quot\;Sin\, Sex &amp\; the C.I.A.&quot\;&nbsp\;</div><div>&nbsp\;</div><div>Production sponsored by:</div><div>&nbsp\;</div>
LOCATION:Community Players Theatre412 Ella StreetBeatrice NE
UID:e.41.981
SEQUENCE:3
DTSTAMP:20260426T043015Z
URL:https://business.beatricechamber.com/events/details/sin-sex-the-cia-06-19-2009-981
END:VEVENT

END:VCALENDAR
