BEGIN:VCALENDAR
VERSION:2.0
PRODID:-//ChamberMaster//Event Calendar 2.0//EN
METHOD:PUBLISH
X-PUBLISHED-TTL:P3D
REFRESH-INTERVAL:P3D
CALSCALE:GREGORIAN
BEGIN:VEVENT
DTSTART;VALUE=DATE:20120218
DTEND;VALUE=DATE:20120219
TRANSP:TRANSPARENT
X-MICROSOFT-CDO-ALLDAYEVENT:TRUE
SUMMARY:Sing Around Nebraska Festival Choir
DESCRIPTION:The Nebraska Choral Directors Association is sponsoring "Sing Around Nebraska Festival Choir" for elementary students in grades four\, five\, and six.  This marks the 20th anniversary of the event.\n\n\n\nIn Beatrice\, the Hevelone Center will be a host site with approximately 120 students in attendance on Saturday\, February 18.  This site's festival will be directed by Linda Johnson and accompanied by Mary Plock.  Karen Jobman and Mary Shelton are the site co-chairpersons.\n\n\n\nStudents from 12 schools will rehearse the day of the festival with the clinician on music they have prepared for this concert.\n\n\n\nThere will be a public performance at 4 pm.  The cust os $3 for adults and for students ages 12 and older.  Children 11 and younger will be admitted free.
X-ALT-DESC;FMTTYPE=text/html:The Nebraska Choral Directors Association is sponsoring &quot\;Sing Around Nebraska Festival Choir&quot\; for elementary students in grades four\, five\, and six.&nbsp\; This marks the 20th anniversary of the event.<br />\n<br />\nIn Beatrice\, the Hevelone Center will be a host site with approximately 120 students in attendance on Saturday\, February 18.&nbsp\; This site&#39\;s festival will be directed by Linda Johnson and accompanied by Mary Plock.&nbsp\; Karen Jobman and Mary Shelton are the site co-chairpersons.<br />\n<br />\nStudents from 12 schools will rehearse the day of the festival with the clinician on music they have prepared for this concert.<br />\n<br />\nThere will be a public performance at 4 pm.&nbsp\; The cust os $3 for adults and for students ages 12 and older.&nbsp\; Children 11 and younger will be admitted free.
LOCATION:
UID:e.41.5326
SEQUENCE:3
DTSTAMP:20260422T185640Z
URL:https://business.beatricechamber.com/events/details/sing-around-nebraska-festival-choir-02-18-2012-5326
END:VEVENT

END:VCALENDAR
