BEGIN:VCALENDAR
VERSION:2.0
PRODID:-//ChamberMaster//Event Calendar 2.0//EN
METHOD:PUBLISH
X-PUBLISHED-TTL:P3D
REFRESH-INTERVAL:P3D
CALSCALE:GREGORIAN
BEGIN:VEVENT
DTSTART:20100404T233000Z
DTEND:20100405T030000Z
X-MICROSOFT-CDO-ALLDAYEVENT:FALSE
SUMMARY:Singles Dance 4.4.10
DESCRIPTION:Beatrice Area Singles DanceMusic by:  Variety BoysApril 4\, 20106:30 p.m. - 10 p.m. Beatrice Eagles Club111 S 8th StreetBeatrice\, NE $5.00 per person Everyone welcome--Singles and Couples--Meet Friends-Visit-Dance-Have Fun Coffee and rolls served: 9:15 until ????????
X-ALT-DESC;FMTTYPE=text/html:<div><div><span style="font-size: small">Beatrice Area Singles&nbsp\;Dance</span></div><div><span style="font-size: small">Music by:&nbsp\; Variety Boys</span></div><div><span style="font-size: small">April 4\, 2010</span></div><div><span style="font-size: small">6:30 p.m.&nbsp\;- 10 p.m.</span></div><div>&nbsp\;</div><div>Beatrice Eagles Club</div><div>111 S 8th Street</div><div>Beatrice\, NE</div><div>&nbsp\;</div><div>$5.00 per person</div><div>&nbsp\;</div><div>Everyone welcome--Singles and Couples--Meet Friends-Visit-Dance-Have Fun</div><div>&nbsp\;</div><div>Coffee and rolls served: 9:15 until ????????</div><div>&nbsp\;</div><div>&nbsp\;</div></div>
LOCATION:
UID:e.41.1630
SEQUENCE:3
DTSTAMP:20260425T135140Z
URL:https://business.beatricechamber.com/events/details/singles-dance-4-4-10-04-04-2010-1630
END:VEVENT

END:VCALENDAR
