BEGIN:VCALENDAR
VERSION:2.0
PRODID:-//ChamberMaster//Event Calendar 2.0//EN
METHOD:PUBLISH
X-PUBLISHED-TTL:P3D
REFRESH-INTERVAL:P3D
CALSCALE:GREGORIAN
BEGIN:VEVENT
DTSTART;VALUE=DATE:20100502
DTEND;VALUE=DATE:20100503
TRANSP:TRANSPARENT
X-MICROSOFT-CDO-ALLDAYEVENT:TRUE
SUMMARY:Singles Dance 5.2.10
DESCRIPTION:Beatrice Area Singles DanceMusic by: Greg SpevakMay 2\, 20106:30 p.m. - 10 p.m. Beatrice Eagles Club111 S 8th StreetBeatrice\, NE $5.00 per person Everyone welcome--Singles and Couples--Meet Friends-Visit-Dance-Have Fun Coffee and rolls served: 9:15 until ????????
X-ALT-DESC;FMTTYPE=text/html:<div><div><span style="font-size: small">Beatrice Area Singles&nbsp\;Dance</span></div><div><span style="font-size: small">Music by:&nbsp\;Greg Spevak</span></div><div><span style="font-size: small">May 2\, 2010</span></div><div><span style="font-size: small">6:30 p.m.&nbsp\;- 10 p.m.</span></div><div>&nbsp\;</div><div>Beatrice Eagles Club</div><div>111 S 8th Street</div><div>Beatrice\, NE</div><div>&nbsp\;</div><div>$5.00 per person</div><div>&nbsp\;</div><div>Everyone welcome--Singles and Couples--Meet Friends-Visit-Dance-Have Fun</div><div>&nbsp\;</div><div>Coffee and rolls served: 9:15 until ????????</div><div>&nbsp\;</div><div>&nbsp\;</div></div>
LOCATION:
UID:e.41.1631
SEQUENCE:3
DTSTAMP:20260425T122450Z
URL:https://business.beatricechamber.com/events/details/singles-dance-5-2-10-05-02-2010-1631
END:VEVENT

END:VCALENDAR
