BEGIN:VCALENDAR
VERSION:2.0
PRODID:-//ChamberMaster//Event Calendar 2.0//EN
METHOD:PUBLISH
X-PUBLISHED-TTL:P3D
REFRESH-INTERVAL:P3D
CALSCALE:GREGORIAN
BEGIN:VEVENT
DTSTART:20110207T003000Z
DTEND:20110207T040000Z
X-MICROSOFT-CDO-ALLDAYEVENT:FALSE
SUMMARY:Singles Dance @ Aunt Mary's Center
DESCRIPTION:Beatrice Area Singles Club\n\nSingles Dance for singles & couples\n\nmusic by Jay Sterling Band\n\n\n\nSingles & Couples\n\nSunday\, February 6\n\n6:30 - 10 p.m.\n\n\n\nAunt Mary's Center\n\n(formerly Beatrice Eagles Club)\n\n111 S 8th Street\, Beatrice\n\n\n\nCoffee & Rolls served at 9:15 p.m.
X-ALT-DESC;FMTTYPE=text/html:Beatrice Area Singles Club<br />\nSingles Dance for singles &amp\; couples<br />\nmusic by Jay Sterling Band<br />\n<br />\nSingles &amp\; Couples<br />\nSunday\, February 6<br />\n6:30 - 10 p.m.<br />\n<br />\nAunt Mary&#39\;s Center<br />\n(formerly Beatrice Eagles Club)<br />\n111 S 8th Street\, Beatrice<br />\n<br />\nCoffee &amp\; Rolls served at 9:15 p.m.<br />\n<br />\n
LOCATION:
UID:e.41.3496
SEQUENCE:3
DTSTAMP:20260424T225714Z
URL:https://business.beatricechamber.com/events/details/singles-dance-aunt-mary-s-center-02-06-2011-3496
END:VEVENT

END:VCALENDAR
