BEGIN:VCALENDAR
VERSION:2.0
PRODID:-//ChamberMaster//Event Calendar 2.0//EN
METHOD:PUBLISH
X-PUBLISHED-TTL:P3D
REFRESH-INTERVAL:P3D
CALSCALE:GREGORIAN
BEGIN:VEVENT
DTSTART;VALUE=DATE:20111006
DTEND;VALUE=DATE:20111010
TRANSP:TRANSPARENT
X-MICROSOFT-CDO-ALLDAYEVENT:TRUE
SUMMARY:Singles in Agriculture
DESCRIPTION:Singles in Agriculture members and guest will be gathering in the Beatrice/Filley area!\n\n\n\nOctober 6-9\n\n\n\nLocal singles are invited to join the group for visits to attractions\, dining\, and dancing.  Friday and Saturday night dances will be held at the American Legion Post 27 in beatrice with the Variety Boys providing the music.  Saturday night will also include a catered meal at the Legion before the dance.  Some other activities will be touring Endicott Clay Products Co.\, Rock Creek Station\, Homestead National Monument\, Zion Lutheran Church\, and attending the Harvest Festival at the Elijah Filley Stone Barn.\n\n\n\nFor more information and itinerary\, contact Gerald Dorn at 402-662-4355 or 254-290-1379 or Donna Chumney at 254-681-2354.  See www.singlesinagriculture.org for more information about the organization.
X-ALT-DESC;FMTTYPE=text/html:Singles in Agriculture members and guest will be gathering in the Beatrice/Filley area!<br />\n<br />\nOctober 6-9<br />\n<br />\nLocal singles are invited to join the group for visits to attractions\, dining\, and dancing.&nbsp\; Friday and Saturday night dances will be held at the American Legion Post 27 in beatrice with the Variety Boys providing the music.&nbsp\; Saturday night will also include a catered meal at the Legion before the dance.&nbsp\; Some other activities will be touring Endicott Clay Products Co.\, Rock Creek Station\, Homestead National Monument\, Zion Lutheran Church\, and attending the Harvest Festival at the Elijah Filley Stone Barn.<br />\n<br />\nFor more information and itinerary\, contact Gerald Dorn at 402-662-4355 or 254-290-1379 or Donna Chumney at 254-681-2354.&nbsp\; See <a href="http://www.singlesinagriculture.org">www.singlesinagriculture.org</a> for more information about the organization.
LOCATION:
UID:e.41.5123
SEQUENCE:3
DTSTAMP:20260424T111142Z
URL:https://business.beatricechamber.com/events/details/singles-in-agriculture-10-06-2011-5123
END:VEVENT

END:VCALENDAR
