BEGIN:VCALENDAR
VERSION:2.0
PRODID:-//ChamberMaster//Event Calendar 2.0//EN
METHOD:PUBLISH
X-PUBLISHED-TTL:P3D
REFRESH-INTERVAL:P3D
CALSCALE:GREGORIAN
BEGIN:VEVENT
DTSTART:20120604T140000Z
DTEND:20120607T213000Z
X-MICROSOFT-CDO-ALLDAYEVENT:FALSE
SUMMARY:Sixth Annual 'Camp Paw Paw'
DESCRIPTION:Morning classes will be held from 9 a.m. - noon and are for kids entering grades 3-5. Afternoon classes will be held from 1:30 - 4:30 p.m. and are for kids entering grades 6-8. The one-day session on June 8 from 9 a.m. to noon is for students entering grades 1-2.\n\n\n\nThe cost per session will be $50 per child and the fee includes all craft materials\, daily snack and drink\, and a Camp Paw Paw T-shirt. The one-day session is $20.
X-ALT-DESC;FMTTYPE=text/html:Morning classes&nbsp\;will be held&nbsp\;from 9 a.m. - noon and are for kids&nbsp\;entering grades&nbsp\;3-5. Afternoon&nbsp\;classes will be&nbsp\;held from&nbsp\;1:30 - 4:30&nbsp\;p.m. and are for kids&nbsp\;entering grades 6-8. The one-day&nbsp\;session&nbsp\;on June 8 from 9 a.m. to noon is for&nbsp\;students entering&nbsp\;grades 1-2.<br />\n<br />\nThe cost per session&nbsp\;will be&nbsp\;$50&nbsp\;per child and&nbsp\;the fee includes all craft&nbsp\;materials\,&nbsp\;daily snack and drink\, and a Camp&nbsp\;Paw Paw&nbsp\;T-shirt. The one-day session is&nbsp\;$20.
LOCATION:
UID:e.41.5706
SEQUENCE:3
DTSTAMP:20260422T131229Z
URL:https://business.beatricechamber.com/events/details/sixth-annual-camp-paw-paw-06-04-2012-5706
END:VEVENT

END:VCALENDAR
