BEGIN:VCALENDAR
VERSION:2.0
PRODID:-//ChamberMaster//Event Calendar 2.0//EN
METHOD:PUBLISH
X-PUBLISHED-TTL:P3D
REFRESH-INTERVAL:P3D
CALSCALE:GREGORIAN
BEGIN:VEVENT
DTSTART:20120608T140000Z
DTEND:20120608T170000Z
X-MICROSOFT-CDO-ALLDAYEVENT:FALSE
SUMMARY:Sixth Annual 'Camp Paw Paw'
DESCRIPTION:This session is held from 9 a.m. - noon for students entering grades 1-2.\n\n\n\nThe cost is $20 and includes all craft materials\, daily snack and drink\, and a Camp Paw Paw T-shirt.
X-ALT-DESC;FMTTYPE=text/html:This session is&nbsp\;held from 9 a.m. -&nbsp\;noon for students entering&nbsp\;grades&nbsp\;1-2.<br />\n<br />\nThe cost&nbsp\;is $20 and includes&nbsp\;all craft materials\, daily snack and drink\,&nbsp\;and a Camp&nbsp\;Paw Paw T-shirt.
LOCATION:
UID:e.41.5707
SEQUENCE:3
DTSTAMP:20260422T131308Z
URL:https://business.beatricechamber.com/events/details/sixth-annual-camp-paw-paw-06-08-2012-5707
END:VEVENT

END:VCALENDAR
