BEGIN:VCALENDAR
VERSION:2.0
PRODID:-//ChamberMaster//Event Calendar 2.0//EN
METHOD:PUBLISH
X-PUBLISHED-TTL:P3D
REFRESH-INTERVAL:P3D
CALSCALE:GREGORIAN
BEGIN:VEVENT
DTSTART:20120529T140000Z
DTEND:20120601T213000Z
X-MICROSOFT-CDO-ALLDAYEVENT:FALSE
SUMMARY:Sixth Annual 'Camp Paw Paw' to teach children responsible pet ownership
DESCRIPTION:The Beatrice Humane Society has scheduled its sixth annual "Camp Paw Paw\," a summer day camp especially for kids who love animals.\n\nThis year's camp is sponsored by Beatrice Noon Kiwanis. Camp leaders are Kathy Woodward and Kyla Moore.\n\n\n\nSession one will be held May 29-June 1\, session two will be held June 4-7\, and session three will be on June 8. Morning and afternoon classes will be offered each week.\n\nMorning classes will be held from 9 a.m. - noon and are for kids entering grades 3-5. Afternoon classes will be held from 1:30 - 4:30 p.m. and are for kids entering grades 6-8. The one-day session on June 8 from 9 a.m. to noon is for students entering 1-2.\n\nThe cost per session will be $50 per child and the fee includes all craft materials\, daily snack and drink\, and a Camp Paw Paw T-shirt. The one-day session is $20.
X-ALT-DESC;FMTTYPE=text/html:The Beatrice Humane Society has scheduled its sixth annual &quot\;Camp&nbsp\;Paw Paw\,&quot\; a&nbsp\;summer day&nbsp\;camp&nbsp\;especially for&nbsp\;kids who love animals.<br />\nThis year&#39\;s camp is sponsored by&nbsp\;Beatrice Noon Kiwanis. Camp leaders are Kathy Woodward and&nbsp\;Kyla Moore.<br />\n<br />\nSession&nbsp\;one will be held&nbsp\;May 29-June&nbsp\;1\, session&nbsp\;two will be held June 4-7\, and session three will be on June 8. Morning and afternoon&nbsp\;classes will be offered each week.<br />\nMorning classes will be held from&nbsp\;9 a.m.&nbsp\;- noon and are for kids&nbsp\;entering grades 3-5. Afternoon&nbsp\;classes&nbsp\;will be held&nbsp\;from&nbsp\;1:30&nbsp\;- 4:30 p.m.&nbsp\;and are for&nbsp\;kids entering grades 6-8. The one-day session on June 8 from&nbsp\;9 a.m.&nbsp\;to noon is for&nbsp\;students entering&nbsp\;1-2.<br />\nThe cost per session will be&nbsp\;$50 per child and the&nbsp\;fee includes all craft materials\, daily snack and&nbsp\;drink\, and a Camp Paw Paw T-shirt. The one-day session&nbsp\;is $20.
LOCATION:
UID:e.41.5705
SEQUENCE:3
DTSTAMP:20260422T131642Z
URL:https://business.beatricechamber.com/events/details/sixth-annual-camp-paw-paw-to-teach-children-responsible-pet-ownership-05-29-2012-5705
END:VEVENT

END:VCALENDAR
