BEGIN:VCALENDAR
VERSION:2.0
PRODID:-//ChamberMaster//Event Calendar 2.0//EN
METHOD:PUBLISH
X-PUBLISHED-TTL:P3D
REFRESH-INTERVAL:P3D
CALSCALE:GREGORIAN
BEGIN:VEVENT
DTSTART;VALUE=DATE:20110331
DTEND;VALUE=DATE:20110401
TRANSP:TRANSPARENT
X-MICROSOFT-CDO-ALLDAYEVENT:TRUE
SUMMARY:Small Business Day at the Capitol
DESCRIPTION:The National Federation of Independent Business/Nebraska\n\nSmall Business Day at the Capitol\n\n\n\nDon't miss your opportunity to advocate for issues important to your economic future in Nebraska with\n\nLegislators and Government Officials\n\n\n\nThursday\, March 31\n\nState Capitol Building\n\nRoom 1023\n\nLincoln\, NE\n\n\n\nClick here for reservation registration & more information.\n\n\n\nPresented by NFIB/Nebraska\n\nNebraska Chamber of Commerce & Industry\n\nLincoln Chamber of Commerce\n\nOmaha Chamber of Commerce\n\nLincoln Independent Business Assn.
X-ALT-DESC;FMTTYPE=text/html:The National Federation of Independent Business/Nebraska<br />\nSmall Business Day at the Capitol<br />\n<br />\nDon&#39\;t miss your opportunity to advocate for issues important to your economic future in Nebraska with<br />\nLegislators and Government Officials<br />\n<br />\nThursday\, March 31<br />\nState Capitol Building<br />\nRoom 1023<br />\nLincoln\, NE<br />\n<br />\n<a href="http://assets.colenient.com/images/articles/3/3-ne_2011_sbd.pdf">Click here for reservation registration &amp\; more information.</a><br />\n<br />\nPresented by NFIB/Nebraska<br />\nNebraska Chamber of Commerce &amp\; Industry<br />\nLincoln Chamber of Commerce<br />\nOmaha Chamber of Commerce<br />\nLincoln Independent Business Assn.
LOCATION:
UID:e.41.4200
SEQUENCE:3
DTSTAMP:20260424T212409Z
URL:https://business.beatricechamber.com/events/details/small-business-day-at-the-capitol-03-31-2011-4200
END:VEVENT

END:VCALENDAR
