BEGIN:VCALENDAR
VERSION:2.0
PRODID:-//ChamberMaster//Event Calendar 2.0//EN
METHOD:PUBLISH
X-PUBLISHED-TTL:P3D
REFRESH-INTERVAL:P3D
CALSCALE:GREGORIAN
BEGIN:VEVENT
DTSTART;VALUE=DATE:20110218
DTEND;VALUE=DATE:20110219
TRANSP:TRANSPARENT
X-MICROSOFT-CDO-ALLDAYEVENT:TRUE
SUMMARY:Sons of the American Legion Mixed Stag
DESCRIPTION:Sons of the American Legion Mixed Stag\n\nFriday\, February 18th\n\n5:30 pm\n\n\n\nWymore American Legion Club\n\nAll-you-can-eat beef fries & ham.  $8 per person
X-ALT-DESC;FMTTYPE=text/html:Sons of the American Legion Mixed Stag<br />\nFriday\, February 18th<br />\n5:30 pm<br />\n<br />\nWymore American Legion Club<br />\nAll-you-can-eat beef fries &amp\; ham.&nbsp\; $8 per person
LOCATION:
UID:e.41.4185
SEQUENCE:3
DTSTAMP:20260424T230003Z
URL:https://business.beatricechamber.com/events/details/sons-of-the-american-legion-mixed-stag-02-18-2011-4185
END:VEVENT

END:VCALENDAR
