BEGIN:VCALENDAR
VERSION:2.0
PRODID:-//ChamberMaster//Event Calendar 2.0//EN
METHOD:PUBLISH
X-PUBLISHED-TTL:P3D
REFRESH-INTERVAL:P3D
CALSCALE:GREGORIAN
BEGIN:VEVENT
DTSTART:20120317T180000Z
DTEND:20120317T210000Z
X-MICROSOFT-CDO-ALLDAYEVENT:FALSE
SUMMARY:Soroptimist International of Beatrice Club Fund Drive
DESCRIPTION:Soroptimist International of Beatrice Club Fund Drive\n\n\n\nSaturday\, March 17\n\n1 - 4 pm\n\n\n\nMembers will interact with Good Samaritan Center residents\; pledges and donations accepted for each hour of donated time.  Proceeds to Soroptimist Club for scholarships and Good Samaritan Center Activities Fund.  Amy\, 402-806-0707.
X-ALT-DESC;FMTTYPE=text/html:Soroptimist International of Beatrice Club Fund Drive<br />\n<br />\nSaturday\, March 17<br />\n1 - 4 pm<br />\n<br />\nMembers will interact with Good Samaritan Center residents\; pledges and donations accepted for each hour of donated time.&nbsp\; Proceeds to Soroptimist Club for scholarships and Good Samaritan Center Activities Fund.&nbsp\; Amy\, 402-806-0707.
LOCATION:
UID:e.41.5418
SEQUENCE:3
DTSTAMP:20260422T173932Z
URL:https://business.beatricechamber.com/events/details/soroptimist-international-of-beatrice-club-fund-drive-03-17-2012-5418
END:VEVENT

END:VCALENDAR
