BEGIN:VCALENDAR
VERSION:2.0
PRODID:-//ChamberMaster//Event Calendar 2.0//EN
METHOD:PUBLISH
X-PUBLISHED-TTL:P3D
REFRESH-INTERVAL:P3D
CALSCALE:GREGORIAN
BEGIN:VEVENT
DTSTART:20110320T210000Z
DTEND:20110321T000000Z
X-MICROSOFT-CDO-ALLDAYEVENT:FALSE
SUMMARY:Soup and Pie Supper
DESCRIPTION:The Wymore United Methodist Church\, 10th and F streets\, will host its annual Soup and Pie Supper.\n\n\n\nHomemade chili\, chicken noodle\, and vegetable beef soups and homemade pie for a freewill offering. Take out will be available.
X-ALT-DESC;FMTTYPE=text/html:The Wymore United Methodist Church\, 10th and F streets\, will host its annual Soup and Pie Supper.<br />\n<br />\nHomemade chili\, chicken noodle\, and vegetable beef soups and homemade pie for a freewill offering. Take out will be available.
LOCATION:
UID:e.41.4242
SEQUENCE:3
DTSTAMP:20260424T211628Z
URL:https://business.beatricechamber.com/events/details/soup-and-pie-supper-03-20-2011-4242
END:VEVENT

END:VCALENDAR
