BEGIN:VCALENDAR
VERSION:2.0
PRODID:-//ChamberMaster//Event Calendar 2.0//EN
METHOD:PUBLISH
X-PUBLISHED-TTL:P3D
REFRESH-INTERVAL:P3D
CALSCALE:GREGORIAN
BEGIN:VEVENT
DTSTART:20101126T230000Z
DTEND:20101127T010000Z
X-MICROSOFT-CDO-ALLDAYEVENT:FALSE
SUMMARY:Soup & Dessert Supper
DESCRIPTION:Wymore Community Center. Chili\, chicken noodle & vegetaable beef soup\, cakes and pies. Sponsor: Southern Music Boosters. This event is in coordination with the Holiday Appreciation Day.
X-ALT-DESC;FMTTYPE=text/html:<span style="font-size: 16px\;"><strong>Wymore Community Center. Chili\, chicken noodle &amp\; vegetaable beef soup\, cakes and pies. Sponsor: Southern Music Boosters. This event is in coordination with the Holiday Appreciation Day.</strong></span>
LOCATION:
UID:e.41.2854
SEQUENCE:3
DTSTAMP:20260425T032510Z
URL:https://business.beatricechamber.com/events/details/soup-dessert-supper-11-26-2010-2854
END:VEVENT

END:VCALENDAR
