BEGIN:VCALENDAR
VERSION:2.0
PRODID:-//ChamberMaster//Event Calendar 2.0//EN
METHOD:PUBLISH
X-PUBLISHED-TTL:P3D
REFRESH-INTERVAL:P3D
CALSCALE:GREGORIAN
BEGIN:VEVENT
DTSTART;VALUE=DATE:20120219
DTEND;VALUE=DATE:20120220
TRANSP:TRANSPARENT
X-MICROSOFT-CDO-ALLDAYEVENT:TRUE
SUMMARY:Soup Luncheon
DESCRIPTION:A Soup Luncheon\nSunday\, February 19th\, 2012\n\n\n	St. Paul's Lutheran School   930 Prairie Lane                      \n\n	11:00 a.m. to 1:00 p.m.\n \n\nPlease join us for St. Paul's LYF annual soup luncheon.  Come warm up and enjoy some fellowship along with helping our youth group.  All proceeds will go to offset costs for the 2013 National LCMS Youth Gathering in San Antonio.  There will also be dessert!!
X-ALT-DESC;FMTTYPE=text/html:<h2 style="margin: 0in 0in 6pt">\n	<span style="font-size: large"><span style="font-family: tahoma"><span style="color: #556e8c">A Soup Luncheon</span></span></span></h2>\n<strong><span style="font-size: medium"><span style="font-family: times new roman">Sunday\, February 19<sup><span style="font-size: small">th</span></sup></span>\, 2012</span></strong><br />\n<h3>\n	<span style="font-size: small"><span style="font-family: tahoma">St. Paul&rsquo\;s Lutheran School &ndash\; 930 Prairie Lane &nbsp\;&nbsp\;&nbsp\;&nbsp\;&nbsp\;&nbsp\;&nbsp\;&nbsp\;&nbsp\;&nbsp\;&nbsp\;&nbsp\;&nbsp\;&nbsp\;&nbsp\;&nbsp\;&nbsp\;&nbsp\;&nbsp\;&nbsp\;&nbsp\;<br />\n	11:00 a.m. to 1:00 p.m.</span></span></h3>\n&nbsp\;<br />\n<span style="font-size: medium"><span style="font-family: times new roman">Please join us for St. Paul&rsquo\;s LYF annual soup luncheon.&nbsp\; Come warm up and enjoy some fellowship along with helping our youth group.&nbsp\; All proceeds will go to offset costs for the 2013 National LCMS Youth Gathering in San Antonio.&nbsp\; There will also be dessert!!</span></span><br />\n
LOCATION:
UID:e.41.5324
SEQUENCE:3
DTSTAMP:20260422T185242Z
URL:https://business.beatricechamber.com/events/details/soup-luncheon-02-19-2012-5324
END:VEVENT

END:VCALENDAR
