BEGIN:VCALENDAR
VERSION:2.0
PRODID:-//ChamberMaster//Event Calendar 2.0//EN
METHOD:PUBLISH
X-PUBLISHED-TTL:P3D
REFRESH-INTERVAL:P3D
CALSCALE:GREGORIAN
BEGIN:VEVENT
DTSTART;VALUE=DATE:20101205
DTEND;VALUE=DATE:20101206
TRANSP:TRANSPARENT
X-MICROSOFT-CDO-ALLDAYEVENT:TRUE
SUMMARY:Soup Luncheon fundraiser to benefit Schultz
DESCRIPTION:Soup Luncheon fundraiser to benefit Schultz:\n\n\n\nA fundraiser is being held this Sunday at the Holiday Inn Express\, 4005 N. Sixth St.\, Beatrice.\n\n\n\nProceeds will go to Cathy Lampe Shultz of Rockford to assist with medical expenses.\n\n\n\nHomemade soups and desserts will be served from 11 a.m.- 1p.m. There will also be a raffle with a prize of lodging in 2 whirlpool rooms at Holiday Inn Express.
X-ALT-DESC;FMTTYPE=text/html:<strong><span style="font-size: 16px\;">Soup Luncheon fundraiser to benefit Schultz:</span></strong><br />\n<br />\nA fundraiser is being held this Sunday at the Holiday Inn Express\, 4005 N. Sixth St.\, Beatrice.<br />\n<br />\nProceeds will go to Cathy Lampe Shultz of Rockford to assist with medical expenses.<br />\n<br />\nHomemade soups and desserts will be served from 11 a.m.- 1p.m. There will also be a raffle with a prize of lodging in 2 whirlpool rooms at Holiday Inn Express.<br />\n
LOCATION:
UID:e.41.2888
SEQUENCE:3
DTSTAMP:20260425T014302Z
URL:https://business.beatricechamber.com/events/details/soup-luncheon-fundraiser-to-benefit-schultz-12-05-2010-2888
END:VEVENT

END:VCALENDAR
