BEGIN:VCALENDAR
VERSION:2.0
PRODID:-//ChamberMaster//Event Calendar 2.0//EN
METHOD:PUBLISH
X-PUBLISHED-TTL:P3D
REFRESH-INTERVAL:P3D
CALSCALE:GREGORIAN
BEGIN:VEVENT
DTSTART;VALUE=DATE:20091206
DTEND;VALUE=DATE:20091207
TRANSP:TRANSPARENT
X-MICROSOFT-CDO-ALLDAYEVENT:TRUE
SUMMARY:Soup Luncheon - Homestead 4-H Shooting Club
DESCRIPTION:Come out to the 4-H Building at the Fairgrounds and warm up!!Soup LuncheonSunday\, December 6th Hosted by Homestead 4-H Shooting Club Call Julie Niedfeldt for more information
X-ALT-DESC;FMTTYPE=text/html:<div>Come out to the 4-H Building at the Fairgrounds and warm up!!</div><div>Soup Luncheon</div><div>Sunday\, December 6th</div><div>&nbsp\;</div><div>Hosted by Homestead 4-H Shooting Club</div><div>&nbsp\;</div><div>Call Julie Niedfeldt for more information</div>
LOCATION:
UID:e.41.1478
SEQUENCE:3
DTSTAMP:20260425T194613Z
URL:https://business.beatricechamber.com/events/details/soup-luncheon-homestead-4-h-shooting-club-12-06-2009-1478
END:VEVENT

END:VCALENDAR
