BEGIN:VCALENDAR
VERSION:2.0
PRODID:-//ChamberMaster//Event Calendar 2.0//EN
METHOD:PUBLISH
X-PUBLISHED-TTL:P3D
REFRESH-INTERVAL:P3D
CALSCALE:GREGORIAN
BEGIN:VEVENT
DTSTART;VALUE=DATE:20100207
DTEND;VALUE=DATE:20100208
TRANSP:TRANSPARENT
X-MICROSOFT-CDO-ALLDAYEVENT:TRUE
SUMMARY:Soup Supper
DESCRIPTION:Eagles Club Soup SupperSunday\, February 7\, 20104 p.m. - 7 p.m. Lower level Eagles Club\, 8th & CourtBeatrice\, NE Menu:  Chili\, Chicken noodle\, Vegetable beef\, and Potato soups\, relishes and dessert.   All you can eat - $4 Everyone is invited to attend and support the Eagles-sponsored charities
X-ALT-DESC;FMTTYPE=text/html:<div><span style="font-size: medium">Eagles Club Soup Supper</span></div><div><span style="font-size: medium">Sunday\, February 7\, 2010</span></div><div><span style="font-size: medium">4 p.m. - 7 p.m.</span></div><div>&nbsp\;</div><div><span style="font-size: medium">Lower level </span></div><div><span style="font-size: medium">Eagles&nbsp\;Club\, 8th &amp\;&nbsp\;Court</span></div><div><span style="font-size: medium">Beatrice\, NE</span></div><div>&nbsp\;</div><div><span style="font-size: small">Menu:&nbsp\; Chili\, Chicken noodle\, Vegetable beef\, and Potato soups\, relishes and dessert.&nbsp\; </span></div><div>&nbsp\;</div><div><span style="font-size: small">All you can eat - $4</span></div><div>&nbsp\;</div><div><span style="font-size: small">Everyone is invited to attend and support&nbsp\;the Eagles-sponsored charities</span></div>
LOCATION:Eagles ClubLower Level8th & CourtBeatrice\, NE
UID:e.41.1612
SEQUENCE:3
DTSTAMP:20260425T164424Z
URL:https://business.beatricechamber.com/events/details/soup-supper-02-07-2010-1612
END:VEVENT

END:VCALENDAR
