BEGIN:VCALENDAR
VERSION:2.0
PRODID:-//ChamberMaster//Event Calendar 2.0//EN
METHOD:PUBLISH
X-PUBLISHED-TTL:P3D
REFRESH-INTERVAL:P3D
CALSCALE:GREGORIAN
BEGIN:VEVENT
DTSTART:20120311T210000Z
DTEND:20120312T000000Z
X-MICROSOFT-CDO-ALLDAYEVENT:FALSE
SUMMARY:Soup Supper
DESCRIPTION:Eagles Auxiliary will host an all-you-can-eat soup supper\n\n\n\nSunday\, March 11\n\n4 - 7 pm\n\n\n\nBeatrice Eagles Club\n\n119 N 19th Street\n\nBeatrice\n\n\n\nChili\, chicken noodle\, vegetable beef and potato soups and desserts will be served for a freewill donation.  Proceeds will support the Eagles Auxiliary president's project\, the Munroe-Meyer Institute.
X-ALT-DESC;FMTTYPE=text/html:Eagles Auxiliary will host an all-you-can-eat soup supper<br />\n<br />\nSunday\, March 11<br />\n4 - 7 pm<br />\n<br />\nBeatrice Eagles Club<br />\n119 N 19th Street<br />\nBeatrice<br />\n<br />\nChili\, chicken noodle\, vegetable beef and potato soups and desserts will be served for a freewill donation.&nbsp\; Proceeds will support the Eagles Auxiliary president&#39\;s project\, the Munroe-Meyer Institute.
LOCATION:
UID:e.41.5397
SEQUENCE:3
DTSTAMP:20260422T171821Z
URL:https://business.beatricechamber.com/events/details/soup-supper-03-11-2012-5397
END:VEVENT

END:VCALENDAR
