BEGIN:VCALENDAR
VERSION:2.0
PRODID:-//ChamberMaster//Event Calendar 2.0//EN
METHOD:PUBLISH
X-PUBLISHED-TTL:P3D
REFRESH-INTERVAL:P3D
CALSCALE:GREGORIAN
BEGIN:VEVENT
DTSTART:20100319T220000Z
DTEND:20100320T010000Z
X-MICROSOFT-CDO-ALLDAYEVENT:FALSE
SUMMARY:Soup Supper
DESCRIPTION:Soup Supperat The Salvation Army\, 7th & Market Streets\, Beatrice 5 p.m. - 8 p.m.Friday\, March 19\, 2010 All proceeds will go to the American Cancer Society's Relay for Life in Gage County\, scheduled for April 30-May 1 at the Gage County Fairgrounds.
X-ALT-DESC;FMTTYPE=text/html:<div>Soup Supper</div><div>at The Salvation Army\, 7th &amp\;&nbsp\;Market Streets\, Beatrice</div><div>&nbsp\;</div><div>5 p.m. - 8 p.m.</div><div>Friday\, March 19\, 2010</div><div>&nbsp\;</div><div>All proceeds will go to the American Cancer Society's Relay for Life in Gage County\, scheduled for April 30-May 1 at the Gage County Fairgrounds.</div>
LOCATION:
UID:e.41.1682
SEQUENCE:3
DTSTAMP:20260425T152821Z
URL:https://business.beatricechamber.com/events/details/soup-supper-03-19-2010-1682
END:VEVENT

END:VCALENDAR
