BEGIN:VCALENDAR
VERSION:2.0
PRODID:-//ChamberMaster//Event Calendar 2.0//EN
METHOD:PUBLISH
X-PUBLISHED-TTL:P3D
REFRESH-INTERVAL:P3D
CALSCALE:GREGORIAN
BEGIN:VEVENT
DTSTART;VALUE=DATE:20101205
DTEND;VALUE=DATE:20101206
TRANSP:TRANSPARENT
X-MICROSOFT-CDO-ALLDAYEVENT:TRUE
SUMMARY:Soup Supper
DESCRIPTION:Soup Supper:\n\n\n\n4-7 p.m.\, lower level of of the Eagles Clun\, 111 S. Eighth St.\, Beatrice.\n\n\n\nAll-you-can-eat chili\, chicken and noodle \, vegetable beef and cream of potato soups\; relishes and dessert. $5 per person.
X-ALT-DESC;FMTTYPE=text/html:<strong><span style="font-size: 14px\;">Soup Supper:</span></strong><br />\n<br />\n4-7 p.m.\, lower level of of the Eagles Clun\, 111 S. Eighth St.\, Beatrice.<br />\n<br />\nAll-you-can-eat chili\, chicken and noodle \, vegetable beef and cream of potato soups\; relishes and dessert. $5 per person.<br />\n
LOCATION:
UID:e.41.2870
SEQUENCE:3
DTSTAMP:20260425T014008Z
URL:https://business.beatricechamber.com/events/details/soup-supper-12-05-2010-2870
END:VEVENT

END:VCALENDAR
