BEGIN:VCALENDAR
VERSION:2.0
PRODID:-//ChamberMaster//Event Calendar 2.0//EN
METHOD:PUBLISH
X-PUBLISHED-TTL:P3D
REFRESH-INTERVAL:P3D
CALSCALE:GREGORIAN
BEGIN:VEVENT
DTSTART;VALUE=DATE:20111016
DTEND;VALUE=DATE:20111017
TRANSP:TRANSPARENT
X-MICROSOFT-CDO-ALLDAYEVENT:TRUE
SUMMARY:Soup Supper and Bazaar
DESCRIPTION:Soup Supper & Bazaar\, Pickrell United Methodist Church\n\nFellowship Hall\n\n\n\nSunday\, October 16\n\n11:30 am - 1:30 pm\n\n\n\n\n\nSoup\, sandwiches\, relishes\, pies\, drinks: goodwill offering. Bazaar items.
X-ALT-DESC;FMTTYPE=text/html:Soup Supper &amp\; Bazaar\, Pickrell United Methodist Church<br />\nFellowship Hall<br />\n<br />\nSunday\, October 16<br />\n11:30 am - 1:30 pm<br />\n<br />\n<br />\nSoup\, sandwiches\, relishes\, pies\, drinks: goodwill offering. Bazaar items.<br />\n
LOCATION:
UID:e.41.5184
SEQUENCE:3
DTSTAMP:20260424T111136Z
URL:https://business.beatricechamber.com/events/details/soup-supper-and-bazaar-10-16-2011-5184
END:VEVENT

END:VCALENDAR
