BEGIN:VCALENDAR
VERSION:2.0
PRODID:-//ChamberMaster//Event Calendar 2.0//EN
METHOD:PUBLISH
X-PUBLISHED-TTL:P3D
REFRESH-INTERVAL:P3D
CALSCALE:GREGORIAN
BEGIN:VEVENT
DTSTART;VALUE=DATE:20101220
DTEND;VALUE=DATE:20101221
TRANSP:TRANSPARENT
X-MICROSOFT-CDO-ALLDAYEVENT:TRUE
SUMMARY:Soup Supper Benefit
DESCRIPTION:Soup Supper Benefit\n\nMonday\, December 20\n\n4:30 p.m.\n\n\n\nJansen Bible Church Fellowship Hall\n\n\n\nProceeds to Odessa Ambrose and her young sons\, who lost everything they owned in a fire that destroyed their home.  Donations may also be sent to Farmer and Merchants Bank\, PO Box C\, Jansen\, NE  68377 (memo "Ambrose Benefit").  402-424-2565
X-ALT-DESC;FMTTYPE=text/html:Soup Supper Benefit<br />\nMonday\, December 20<br />\n4:30 p.m.<br />\n<br />\nJansen Bible Church Fellowship Hall<br />\n<br />\nProceeds to Odessa Ambrose and her young sons\, who lost everything they owned in a fire that destroyed their home.&nbsp\; Donations may also be sent to Farmer and Merchants Bank\, PO Box C\, Jansen\, NE&nbsp\; 68377 (memo &quot\;Ambrose Benefit&quot\;).&nbsp\; 402-424-2565
LOCATION:
UID:e.41.2927
SEQUENCE:3
DTSTAMP:20260425T014048Z
URL:https://business.beatricechamber.com/events/details/soup-supper-benefit-12-20-2010-2927
END:VEVENT

END:VCALENDAR
