BEGIN:VCALENDAR
VERSION:2.0
PRODID:-//ChamberMaster//Event Calendar 2.0//EN
METHOD:PUBLISH
X-PUBLISHED-TTL:P3D
REFRESH-INTERVAL:P3D
CALSCALE:GREGORIAN
BEGIN:VEVENT
DTSTART;VALUE=DATE:20110213
DTEND;VALUE=DATE:20110214
TRANSP:TRANSPARENT
X-MICROSOFT-CDO-ALLDAYEVENT:TRUE
SUMMARY:Soup Supper - Boy Scout Troop 221
DESCRIPTION:Boy Scout Troop 221 of Beatrice\n\nAnnual Soup & Pie Luncheon - Soup Supper\n\n\n\nSunday\, February 13\n\n11:30 a.m. - 1 p.m.\n\n\n\nFirst Presbyterian Church\, corner of 5th & High Streets\, Beatrice\n\n\n\nChili\, chicken noodle and vegetable soups will be served.  The cost is $5 for adults and $3 for children ages 10 and younger.  Children under age three eat free of charge.\n\n\n\nProceeds will go to providing resources for continuation and expansion of scouting opportunities.
X-ALT-DESC;FMTTYPE=text/html:Boy Scout Troop 221 of Beatrice<br />\nAnnual Soup &amp\; Pie Luncheon - Soup Supper<br />\n<br />\nSunday\, February 13<br />\n11:30 a.m. - 1 p.m.<br />\n<br />\nFirst Presbyterian Church\, corner of 5th &amp\; High Streets\, Beatrice<br />\n<br />\nChili\, chicken noodle and vegetable soups will be served.&nbsp\; The cost is $5 for adults and $3 for children ages 10 and younger.&nbsp\; Children under age three eat free of charge.<br />\n<br />\nProceeds will go to providing resources for continuation and expansion of scouting opportunities.
LOCATION:
UID:e.41.4039
SEQUENCE:3
DTSTAMP:20260424T225743Z
URL:https://business.beatricechamber.com/events/details/soup-supper-boy-scout-troop-221-02-13-2011-4039
END:VEVENT

END:VCALENDAR
