BEGIN:VCALENDAR
VERSION:2.0
PRODID:-//ChamberMaster//Event Calendar 2.0//EN
METHOD:PUBLISH
X-PUBLISHED-TTL:P3D
REFRESH-INTERVAL:P3D
CALSCALE:GREGORIAN
BEGIN:VEVENT
DTSTART;VALUE=DATE:20110617
DTEND;VALUE=DATE:20110618
TRANSP:TRANSPARENT
X-MICROSOFT-CDO-ALLDAYEVENT:TRUE
SUMMARY:Southeast Community Band
DESCRIPTION:Starts at 7:30 p.m. at Chautauqua Park\, Beatrice.  Come and listen to some good music!
X-ALT-DESC;FMTTYPE=text/html:Starts at 7:30 p.m. at Chautauqua Park\, Beatrice.&nbsp\; Come and listen to some good music!
LOCATION:
UID:e.41.4890
SEQUENCE:3
DTSTAMP:20260424T165412Z
URL:https://business.beatricechamber.com/events/details/southeast-community-band-06-17-2011-4890
END:VEVENT

END:VCALENDAR
