BEGIN:VCALENDAR
VERSION:2.0
PRODID:-//ChamberMaster//Event Calendar 2.0//EN
METHOD:PUBLISH
X-PUBLISHED-TTL:P3D
REFRESH-INTERVAL:P3D
CALSCALE:GREGORIAN
BEGIN:VEVENT
DTSTART;VALUE=DATE:20110713
DTEND;VALUE=DATE:20110714
TRANSP:TRANSPARENT
X-MICROSOFT-CDO-ALLDAYEVENT:TRUE
SUMMARY:Southeast Community College Basketball Camp for Boys and Girls
DESCRIPTION:SCC-Beatrice's basketball programs will host a three day camp for girls and boys July 11-13 at the Truman Center on the Beatrice Campus.\n\n\n\nThere will be a morning session from 10 a.m.-noon\, for fourth through sixth graders and an afternoon session from 4 p.m.-6 p.m. for seventh through 12th graders.\n\n\n\nCost for each camp is $60 if turned in by July 3 and $70 at the door.\n\n\n\nFor more information contact Joel or Vicki Wooton at 800-233-5027 ext. 1323 or 1322 or by e-mail jwooton@southeast.edu or vwooton@southeast.edu
X-ALT-DESC;FMTTYPE=text/html:SCC-Beatrice&#39\;s basketball programs will host a three day camp for girls and boys July 11-13 at the Truman Center on the Beatrice Campus.<br />\n<br />\nThere will be a morning session from 10 a.m.-noon\, for fourth through sixth graders and an afternoon session from 4 p.m.-6 p.m. for seventh through 12th graders.<br />\n<br />\nCost for each camp is $60 if turned in by July 3 and $70 at the door.<br />\n<br />\nFor more information contact Joel or Vicki Wooton at 800-233-5027 ext. 1323 or 1322 or by e-mail <a href="mailto:jwooton@southeast.edu">jwooton@southeast.edu</a> or vwooton@southeast.edu<br />\n<span _fck_bookmark="1" style="display: none">&nbsp\;</span>
LOCATION:
UID:e.41.4931
SEQUENCE:3
DTSTAMP:20260424T153620Z
URL:https://business.beatricechamber.com/events/details/southeast-community-college-basketball-camp-for-boys-and-girls-07-13-2011-4931
END:VEVENT

END:VCALENDAR
