BEGIN:VCALENDAR
VERSION:2.0
PRODID:-//ChamberMaster//Event Calendar 2.0//EN
METHOD:PUBLISH
X-PUBLISHED-TTL:P3D
REFRESH-INTERVAL:P3D
CALSCALE:GREGORIAN
BEGIN:VEVENT
DTSTART:20101107T170000Z
DTEND:20101107T220000Z
X-MICROSOFT-CDO-ALLDAYEVENT:FALSE
SUMMARY:Southeast Community College Open House
DESCRIPTION:Southeast Community College\n\n\n\n11 a.m.- 4 p.m. Openhouse\n\n\n\nBeatrice Campus- Truman Center
X-ALT-DESC;FMTTYPE=text/html:<strong><span style="font-size: 14px">Southeast Community College</span></strong><br />\n<br />\n11 a.m.- 4 p.m. Openhouse<br />\n<br />\nBeatrice Campus- Truman Center
LOCATION:
UID:e.41.2753
SEQUENCE:3
DTSTAMP:20260425T032738Z
URL:https://business.beatricechamber.com/events/details/southeast-community-college-open-house-11-07-2010-2753
END:VEVENT

END:VCALENDAR
