BEGIN:VCALENDAR
VERSION:2.0
PRODID:-//ChamberMaster//Event Calendar 2.0//EN
METHOD:PUBLISH
X-PUBLISHED-TTL:P3D
REFRESH-INTERVAL:P3D
CALSCALE:GREGORIAN
BEGIN:VEVENT
DTSTART:20120306T160000Z
DTEND:20120306T200000Z
X-MICROSOFT-CDO-ALLDAYEVENT:FALSE
SUMMARY:Southeast Nebraska American Red Corss Family Casework Training
DESCRIPTION:Class will qualify participants to respond to single family fires on behalf of the American Red Cross and provide the families affected with needed assentials. (Training will also be held on March 10)\n\n\n\nNo cost\; reservations required
X-ALT-DESC;FMTTYPE=text/html:Class will qualify participants to respond to single family fires on behalf of the American Red Cross and provide the families affected with needed assentials. (Training will also be held on March 10)<br />\n<br />\nNo cost\; reservations required
LOCATION:Red Cross.\, lower level\, Beatrice Auditorium\, Fourth and Ella
UID:e.41.5385
SEQUENCE:3
DTSTAMP:20260422T173511Z
URL:https://business.beatricechamber.com/events/details/southeast-nebraska-american-red-corss-family-casework-training-03-06-2012-5385
END:VEVENT

END:VCALENDAR
