BEGIN:VCALENDAR
VERSION:2.0
PRODID:-//ChamberMaster//Event Calendar 2.0//EN
METHOD:PUBLISH
X-PUBLISHED-TTL:P3D
REFRESH-INTERVAL:P3D
CALSCALE:GREGORIAN
BEGIN:VEVENT
DTSTART:20101214T010000Z
DTEND:20101214T010000Z
X-MICROSOFT-CDO-ALLDAYEVENT:FALSE
SUMMARY:Southern 5th-8th Grade Instrumental and 5th-6th Grade Vocal Concert
DESCRIPTION:Concert 7 p.m. Monday at the High School in Wymore.
X-ALT-DESC;FMTTYPE=text/html:<strong>Concert 7 p.m. Monday at the High School in Wymore.</strong>
LOCATION:
UID:e.41.2899
SEQUENCE:3
DTSTAMP:20260425T015526Z
URL:https://business.beatricechamber.com/events/details/southern-5th-8th-grade-instrumental-and-5th-6th-grade-vocal-concert-12-13-2010-2899
END:VEVENT

END:VCALENDAR
