BEGIN:VCALENDAR
VERSION:2.0
PRODID:-//ChamberMaster//Event Calendar 2.0//EN
METHOD:PUBLISH
X-PUBLISHED-TTL:P3D
REFRESH-INTERVAL:P3D
CALSCALE:GREGORIAN
BEGIN:VEVENT
DTSTART:20101212T200000Z
DTEND:20101212T200000Z
X-MICROSOFT-CDO-ALLDAYEVENT:FALSE
SUMMARY:Southern Christmas Concert
DESCRIPTION:Southern Christmas Concert and Cake Auction:\n\n\n\nwill be at 2 p.m. Sunday at the Southern High Auditorium. Groups performing will be the Southern High School stage band\, Southern High School concert band\, and the following choir groups: Sweet & Sassy\, Southern Harmony Swing Choir\, senior high concert choir\, and the junior high choir. The cake auction will be held during the intermission period of the concert.
X-ALT-DESC;FMTTYPE=text/html:<span style="font-size: 14px\;"><strong>Southern Christmas Concert and Cake Auction:</strong></span><br />\n<br />\nwill be at 2 p.m. Sunday at the Southern High Auditorium. Groups performing will be the Southern High School stage band\, Southern High School concert band\, and the following choir groups: Sweet &amp\; Sassy\, Southern Harmony Swing Choir\, senior high concert choir\, and the junior high choir. The cake auction will be held during the intermission period of the concert.<br />\n
LOCATION:
UID:e.41.2894
SEQUENCE:3
DTSTAMP:20260425T014455Z
URL:https://business.beatricechamber.com/events/details/southern-christmas-concert-12-12-2010-2894
END:VEVENT

END:VCALENDAR
