BEGIN:VCALENDAR
VERSION:2.0
PRODID:-//ChamberMaster//Event Calendar 2.0//EN
METHOD:PUBLISH
X-PUBLISHED-TTL:P3D
REFRESH-INTERVAL:P3D
CALSCALE:GREGORIAN
BEGIN:VEVENT
DTSTART;VALUE=DATE:20111118
DTEND;VALUE=DATE:20111119
TRANSP:TRANSPARENT
X-MICROSOFT-CDO-ALLDAYEVENT:TRUE
SUMMARY:Southern Gage Community Pride Community Coffee
DESCRIPTION:hosted by AseraCare 10am\n\nat the Wymore Good Samaritan\,\n\n105 East D street\, Wymore\, Ne.
X-ALT-DESC;FMTTYPE=text/html:hosted by AseraCare 10am<br />\nat the Wymore Good Samaritan\,<br />\n105 East D street\, Wymore\, Ne.&nbsp\;
LOCATION:
UID:e.41.5254
SEQUENCE:3
DTSTAMP:20260424T100024Z
URL:https://business.beatricechamber.com/events/details/southern-gage-community-pride-community-coffee-11-18-2011-5254
END:VEVENT

END:VCALENDAR
