BEGIN:VCALENDAR
VERSION:2.0
PRODID:-//ChamberMaster//Event Calendar 2.0//EN
METHOD:PUBLISH
X-PUBLISHED-TTL:P3D
REFRESH-INTERVAL:P3D
CALSCALE:GREGORIAN
BEGIN:VEVENT
DTSTART:20120713T150000Z
DTEND:20120713T150000Z
X-MICROSOFT-CDO-ALLDAYEVENT:FALSE
SUMMARY:Southern Gage County Coffee
DESCRIPTION:At Park Lodge Meeting Room\, 300 N. Seventh St.\, Wymore. Hosted by Wymore Housing Authority.
X-ALT-DESC;FMTTYPE=text/html:At Park Lodge Meeting Room\, 300 N. Seventh St.\, Wymore. Hosted by Wymore Housing Authority.
LOCATION:
UID:e.41.6320
SEQUENCE:3
DTSTAMP:20260422T113812Z
URL:https://business.beatricechamber.com/events/details/southern-gage-county-coffee-07-13-2012-6320
END:VEVENT

END:VCALENDAR
