BEGIN:VCALENDAR
VERSION:2.0
PRODID:-//ChamberMaster//Event Calendar 2.0//EN
METHOD:PUBLISH
X-PUBLISHED-TTL:P3D
REFRESH-INTERVAL:P3D
CALSCALE:GREGORIAN
BEGIN:VEVENT
DTSTART:20111007T220000Z
DTEND:20111008T000000Z
X-MICROSOFT-CDO-ALLDAYEVENT:FALSE
SUMMARY:Southern Music Boosters Annual Chili Tailgater
DESCRIPTION:Southern Music Boosters annual Chili Tailgater:\n\n\n\nFriday\, October 7\n\n5 - 7 pm\n\n\n\nat Arbor State Park\, Wymore\, NE before Southern's football game.
X-ALT-DESC;FMTTYPE=text/html:Southern Music Boosters annual Chili Tailgater:<br />\n<br />\nFriday\, October 7<br />\n5 - 7 pm<br />\n<br />\nat Arbor State Park\, Wymore\, NE&nbsp\;before Southern&#39\;s football game.
LOCATION:
UID:e.41.5167
SEQUENCE:3
DTSTAMP:20260424T111632Z
URL:https://business.beatricechamber.com/events/details/southern-music-boosters-annual-chili-tailgater-10-07-2011-5167
END:VEVENT

END:VCALENDAR
