BEGIN:VCALENDAR
VERSION:2.0
PRODID:-//ChamberMaster//Event Calendar 2.0//EN
METHOD:PUBLISH
X-PUBLISHED-TTL:P3D
REFRESH-INTERVAL:P3D
CALSCALE:GREGORIAN
BEGIN:VEVENT
DTSTART:20110320T160000Z
DTEND:20110320T183000Z
X-MICROSOFT-CDO-ALLDAYEVENT:FALSE
SUMMARY:Southern Music Boosters Chicken BBQ
DESCRIPTION:Southern Music Boosters Chicken BBQ\n\n\n\nSunday\, March 20\n\n11 am - 1:30 pm\n\n\n\nSouthern High School\n\nWymore\, NE\n\n\n\nBBQ Chicken meal\; $7\n\nCarry-out meals available
X-ALT-DESC;FMTTYPE=text/html:Southern Music Boosters Chicken BBQ<br />\n<br />\nSunday\, March 20<br />\n11 am - 1:30 pm<br />\n<br />\nSouthern High School<br />\nWymore\, NE<br />\n<br />\nBBQ Chicken meal\; $7<br />\nCarry-out meals available
LOCATION:
UID:e.41.4253
SEQUENCE:3
DTSTAMP:20260424T212232Z
URL:https://business.beatricechamber.com/events/details/southern-music-boosters-chicken-bbq-03-20-2011-4253
END:VEVENT

END:VCALENDAR
