BEGIN:VCALENDAR
VERSION:2.0
PRODID:-//ChamberMaster//Event Calendar 2.0//EN
METHOD:PUBLISH
X-PUBLISHED-TTL:P3D
REFRESH-INTERVAL:P3D
CALSCALE:GREGORIAN
BEGIN:VEVENT
DTSTART:20120325T160000Z
DTEND:20120325T180000Z
X-MICROSOFT-CDO-ALLDAYEVENT:FALSE
SUMMARY:Southern Music Boosters Chicken BBQ
DESCRIPTION:Southern Music Boosters Chicken BBQ\n\n\n\nSunday\, March 25\n\n11 am - 1pm\n\n\n\nCommons Area\, Southern High School\, Wymore\n\n\n\n$7 per person\n\n\n\nOne-half BBQ chicken\, baked potato\, cole slaw.  Carry-out available.
X-ALT-DESC;FMTTYPE=text/html:Southern Music Boosters Chicken BBQ<br />\n<br />\nSunday\, March 25<br />\n11 am - 1pm<br />\n<br />\nCommons Area\, Southern High School\, Wymore<br />\n<br />\n$7 per person<br />\n<br />\nOne-half BBQ chicken\, baked potato\, cole slaw.&nbsp\; Carry-out available.
LOCATION:
UID:e.41.5431
SEQUENCE:3
DTSTAMP:20260422T173147Z
URL:https://business.beatricechamber.com/events/details/southern-music-boosters-chicken-bbq-03-25-2012-5431
END:VEVENT

END:VCALENDAR
