BEGIN:VCALENDAR
VERSION:2.0
PRODID:-//ChamberMaster//Event Calendar 2.0//EN
METHOD:PUBLISH
X-PUBLISHED-TTL:P3D
REFRESH-INTERVAL:P3D
CALSCALE:GREGORIAN
BEGIN:VEVENT
DTSTART;VALUE=DATE:20120304
DTEND;VALUE=DATE:20120305
TRANSP:TRANSPARENT
X-MICROSOFT-CDO-ALLDAYEVENT:TRUE
SUMMARY:Spaghetti Dinner
DESCRIPTION:St. Joseph's Annual Spaghetti Dinner\n\n\n\nSunday\, March 4\n\n4 pm - 7 pm\n\n\n\nParish Center - 420 N 6th Street\, Beatrice\n\n\n\nTickets in Advance:\n\nChildren (3 - 12 years): $3\n\nAdults: $9\n\nAvailable at Security First Bank and First National Omaha\n\n\n\nTickets at the Door:\n\nChildren (3 - 12 years): $3\n\nAdults: $10\n\n\n\nCarry Out Dinner Available
X-ALT-DESC;FMTTYPE=text/html:St. Joseph&#39\;s Annual Spaghetti Dinner<br />\n<br />\nSunday\, March 4<br />\n4 pm - 7 pm<br />\n<br />\nParish Center - 420 N 6th Street\, Beatrice<br />\n<br />\nTickets in Advance:<br />\nChildren (3 - 12 years): $3<br />\nAdults: $9<br />\nAvailable at Security First Bank and First National Omaha<br />\n<br />\nTickets at the Door:<br />\nChildren (3 - 12 years): $3<br />\nAdults: $10<br />\n<br />\nCarry Out Dinner Available
LOCATION:
UID:e.41.5379
SEQUENCE:3
DTSTAMP:20260422T171004Z
URL:https://business.beatricechamber.com/events/details/spaghetti-dinner-03-04-2012-5379
END:VEVENT

END:VCALENDAR
