BEGIN:VCALENDAR
VERSION:2.0
PRODID:-//ChamberMaster//Event Calendar 2.0//EN
METHOD:PUBLISH
X-PUBLISHED-TTL:P3D
REFRESH-INTERVAL:P3D
CALSCALE:GREGORIAN
BEGIN:VEVENT
DTSTART:20091018T160000Z
DTEND:20091018T180000Z
X-MICROSOFT-CDO-ALLDAYEVENT:FALSE
SUMMARY:Spaghetti Dinner at Samaritan Springs
DESCRIPTION:Samaritan Springs will host it's Annual Spaghetti DinnerSunday\, October 13th from 11:00 am - 1:00 pm600 South 22nd Street The event is a fundrasier for the Resident Christmas Gift Fund Freewill donation mealSpaghetti\, salad\, garlic bread and dessert.
X-ALT-DESC;FMTTYPE=text/html:<div>Samaritan Springs will host it's Annual Spaghetti Dinner</div><div>Sunday\, October 13th from 11:00 am - 1:00 pm</div><div>600 South 22nd Street</div><div>&nbsp\;</div><div>The event is a fundrasier for the Resident Christmas Gift Fund</div><div>&nbsp\;</div><div>Freewill donation meal</div><div>Spaghetti\, salad\, garlic bread and dessert.</div>
LOCATION:
UID:e.41.1469
SEQUENCE:3
DTSTAMP:20260425T221213Z
URL:https://business.beatricechamber.com/events/details/spaghetti-dinner-at-samaritan-springs-10-18-2009-1469
END:VEVENT

END:VCALENDAR
