BEGIN:VCALENDAR
VERSION:2.0
PRODID:-//ChamberMaster//Event Calendar 2.0//EN
METHOD:PUBLISH
X-PUBLISHED-TTL:P3D
REFRESH-INTERVAL:P3D
CALSCALE:GREGORIAN
BEGIN:VEVENT
DTSTART:20111016T160000Z
DTEND:20111016T180000Z
X-MICROSOFT-CDO-ALLDAYEVENT:FALSE
SUMMARY:Spaghetti Dinner & Puzzle Auction
DESCRIPTION:Spaghetti Dinner & Puzzle Auction\n\n\n\nSunday\, October 16\n\n11 am - 1 pm\n\n\n\nFree will donation\n\n\n\nEnjoy a meal of spaghetti\, salad\, garlic bread and assorted pies.  Place your silent auction bid on one of our beautiful framed puzzles.  Winners will be announced at 1 pm on October 16.\n\n\n\nDinner benefits the Residents Christmas Gift Fund.  Donations benefit each resident and allow staff to share one-on-one in our Secret Santa event through the month of December.\n\n\n\nGood Samaritan Society & Samaritan Springs\n\n\n\nFor more information: 402-228-3322\n\nwww.good-sam.com\n\n600 S 22nd Street\n\nBeatrice\, NE  68310
X-ALT-DESC;FMTTYPE=text/html:Spaghetti Dinner &amp\; Puzzle Auction<br />\n<br />\nSunday\, October 16<br />\n11 am - 1 pm<br />\n<br />\nFree will donation<br />\n<br />\nEnjoy a meal of spaghetti\, salad\, garlic bread and assorted pies.&nbsp\; Place your silent auction bid on one of our beautiful framed puzzles.&nbsp\; Winners will be announced at 1 pm on October 16.<br />\n<br />\nDinner benefits the Residents Christmas Gift Fund.&nbsp\; Donations benefit each resident and allow staff to share one-on-one in our Secret Santa event through the month of December.<br />\n<br />\nGood Samaritan Society &amp\; Samaritan Springs<br />\n<br />\nFor more information: 402-228-3322<br />\nwww.good-sam.com<br />\n600 S 22nd Street<br />\nBeatrice\, NE&nbsp\; 68310
LOCATION:
UID:e.41.5194
SEQUENCE:3
DTSTAMP:20260424T111136Z
URL:https://business.beatricechamber.com/events/details/spaghetti-dinner-puzzle-auction-10-16-2011-5194
END:VEVENT

END:VCALENDAR
