BEGIN:VCALENDAR
VERSION:2.0
PRODID:-//ChamberMaster//Event Calendar 2.0//EN
METHOD:PUBLISH
X-PUBLISHED-TTL:P3D
REFRESH-INTERVAL:P3D
CALSCALE:GREGORIAN
BEGIN:VEVENT
DTSTART:20100212T223000Z
DTEND:20100213T010000Z
X-MICROSOFT-CDO-ALLDAYEVENT:FALSE
SUMMARY:Spaghetti Feed 2/12/10
DESCRIPTION:Spaghetti FeedHosted by:  Beatrice High School Sophomores Friday\, February 12\, 20104:30 - 7:30 p.m.BHS Commons Area Spaghetti with meat sauce\, salad\, garlic bread\, desserts and drinksAdults: $5Children 10 & Under: $3 Proceeds go towards 2011 class prom and graduation needs.
X-ALT-DESC;FMTTYPE=text/html:<div><span style="font-size: large">Spaghetti Feed</span></div><div><span style="font-size: medium">Hosted by:&nbsp\;&nbsp\;Beatrice High School Sophomores</span></div><div>&nbsp\;</div><div><span style="font-size: small">Friday\, February 12\, 2010</span></div><div><span style="font-size: small">4:30 - 7:30 p.m.</span></div><div><span style="font-size: small">BHS&nbsp\;Commons Area</span></div><div>&nbsp\;</div><div><span style="font-size: small">Spaghetti with meat sauce\, salad\, garlic bread\, desserts and drinks</span></div><div><span style="font-size: small">Adults: $5</span></div><div><span style="font-size: small">Children 10 &amp\;&nbsp\;Under:&nbsp\;$3</span></div><div>&nbsp\;</div><div><span style="font-size: small">Proceeds go towards 2011 class prom and graduation needs.</span></div>
LOCATION:
UID:e.41.1649
SEQUENCE:3
DTSTAMP:20260425T165210Z
URL:https://business.beatricechamber.com/events/details/spaghetti-feed-2-12-10-02-12-2010-1649
END:VEVENT

END:VCALENDAR
