BEGIN:VCALENDAR
VERSION:2.0
PRODID:-//ChamberMaster//Event Calendar 2.0//EN
METHOD:PUBLISH
X-PUBLISHED-TTL:P3D
REFRESH-INTERVAL:P3D
CALSCALE:GREGORIAN
BEGIN:VEVENT
DTSTART;VALUE=DATE:20100505
DTEND;VALUE=DATE:20100506
TRANSP:TRANSPARENT
X-MICROSOFT-CDO-ALLDAYEVENT:TRUE
SUMMARY:Spaghetti Feed VFW
DESCRIPTION:Spaghetti Feedhosted by VFW Post 1077 Auxiliary 5:30 pm - 7:30 pmWednesday\, May 5 VFW Club124 S 23rd St.Beatrice\, NE Meal includes homemade salads and desserts.
X-ALT-DESC;FMTTYPE=text/html:<div><span style="font-size: medium">Spaghetti Feed</span></div><div><span style="font-size: medium">hosted by VFW Post 1077 Auxiliary</span></div><div>&nbsp\;</div><div><span style="font-size: small">5:30 pm - 7:30 pm</span></div><div><span style="font-size: small">Wednesday\, May 5</span></div><div>&nbsp\;</div><div>VFW Club</div><div>124 S 23rd St.</div><div>Beatrice\, NE</div><div>&nbsp\;</div><div>Meal includes homemade salads and desserts.</div>
LOCATION:
UID:e.41.1975
SEQUENCE:3
DTSTAMP:20260425T122452Z
URL:https://business.beatricechamber.com/events/details/spaghetti-feed-vfw-05-05-2010-1975
END:VEVENT

END:VCALENDAR
