BEGIN:VCALENDAR
VERSION:2.0
PRODID:-//ChamberMaster//Event Calendar 2.0//EN
METHOD:PUBLISH
X-PUBLISHED-TTL:P3D
REFRESH-INTERVAL:P3D
CALSCALE:GREGORIAN
BEGIN:VEVENT
DTSTART;VALUE=DATE:20110105
DTEND;VALUE=DATE:20110106
TRANSP:TRANSPARENT
X-MICROSOFT-CDO-ALLDAYEVENT:TRUE
SUMMARY:Spaghetti Feed - VFW Post 1077 Auxiliary
DESCRIPTION:VFW Post 1077 Auxiliary Spaghetti Feed\n\n\n\nWednesday\, January 5\n\n5:30 - 7:30 p.m.\n\n\n\nVFW Club\, 124 S 23rd Street\, Beatrice\n\n\n\nThe meal includes salads and desserts.
X-ALT-DESC;FMTTYPE=text/html:VFW Post 1077 Auxiliary Spaghetti Feed<br />\n<br />\nWednesday\, January 5<br />\n5:30 - 7:30 p.m.<br />\n<br />\nVFW Club\, 124 S 23rd Street\, Beatrice<br />\n<br />\nThe meal includes salads and desserts.
LOCATION:
UID:e.41.3150
SEQUENCE:3
DTSTAMP:20260425T014136Z
URL:https://business.beatricechamber.com/events/details/spaghetti-feed-vfw-post-1077-auxiliary-01-05-2011-3150
END:VEVENT

END:VCALENDAR
