BEGIN:VCALENDAR
VERSION:2.0
PRODID:-//ChamberMaster//Event Calendar 2.0//EN
METHOD:PUBLISH
X-PUBLISHED-TTL:P3D
REFRESH-INTERVAL:P3D
CALSCALE:GREGORIAN
BEGIN:VEVENT
DTSTART:20120327T163000Z
DTEND:20120327T180000Z
X-MICROSOFT-CDO-ALLDAYEVENT:FALSE
SUMMARY:Speed Networking\, Chamber Style "Progressive Lunch"
DESCRIPTION:Beatrice Area Chamber of Commerce's Annual\n\nProgressive Luncheon\n\n \n\n ...building relationships to build your business.\n\n \n\n\n\n Tuesday\, March 27   11:30 am - 1 pm\n\nClassic's Bar & Grill \n\n1301 Oak Street\, Beatrice\n\n\n\n  Bring Your Business Cards\n\n  Meet New People\n\n  Learn About Area Businesses\n\n  Network\n\n\n\nCall the Beatrice Area Chamber of Commerce to register.  402-223-2338\n\nwww.beatricechamber.com
X-ALT-DESC;FMTTYPE=text/html:&nbsp\;Beatrice Area Chamber of Commerce&#39\;s Annual<br />\n<span style="font-size: 24px"><span style="font-weight: bold\; language: en-us"><span style="font-family: copperplate gothic bold">Progressive Luncheon</span></span></span><br />\n&nbsp\;<br />\n&nbsp\;<span style="language: en-us"><span style="font-size: 11pt"><span style="font-family: copperplate gothic bold">...building relationships to build your business.</span></span></span><br />\n&nbsp\;<br />\n<br />\n&nbsp\;<span style="font-size: 22px"><span style="font-weight: bold\; language: en-us"><span style="font-family: copperplate gothic bold">Tuesday\, March 27&nbsp\;&nbsp\; 11:30 am - 1 pm</span></span><br />\n<span style="language: en-us"><span style="font-family: copperplate gothic bold">Classic&rsquo\;s Bar &amp\; Grill </span></span><br />\n<span style="language: en-us"><span style="font-family: copperplate gothic bold">1301 Oak Street\, Beatrice<br />\n<br />\n<span style="unicode-bidi: embed\; direction: ltr\; language: x-none"><span style="font-size: 16.799pt"><span style="color: black"><span style="font-family: symbol">&middot\;</span></span></span></span>&nbsp\;<span style="language: en-us"><span style="font-size: 16.799pt"><span style="font-family: franklin gothic medium cond">Bring Your Business Cards</span></span></span><br />\n<span style="unicode-bidi: embed\; direction: ltr\; language: x-none"><span style="font-size: 16.799pt"><span style="color: black"><span style="font-family: symbol">&middot\;</span></span></span></span>&nbsp\;<span style="language: en-us"><span style="font-size: 16.799pt"><span style="font-family: franklin gothic medium cond">Meet New People</span></span></span><br />\n<span style="unicode-bidi: embed\; direction: ltr\; language: x-none"><span style="font-size: 16.799pt"><span style="color: black"><span style="font-family: symbol">&middot\;</span></span></span></span>&nbsp\;<span style="language: en-us"><span style="font-size: 16.799pt"><span style="font-family: franklin gothic medium cond">Learn About Area Businesses</span></span></span><br />\n<span style="unicode-bidi: embed\; direction: ltr\; language: x-none"><span style="font-size: 16.799pt"><span style="color: black"><span style="font-family: symbol">&middot\;</span></span></span></span>&nbsp\;<span style="language: en-us"><span style="font-size: 16.799pt"><span style="font-family: franklin gothic medium cond">Network<br />\n<br />\nCall the&nbsp\;Beatrice Area Chamber of Commerce to register.&nbsp\; 402-223-2338</span></span></span><br />\nwww.beatricechamber.com<br />\n&nbsp\;&nbsp\;</span></span></span><br />\n<br />\n<br />\n&nbsp\;<br />\n
LOCATION:
UID:e.41.5424
SEQUENCE:3
DTSTAMP:20260422T172851Z
URL:https://business.beatricechamber.com/events/details/speed-networking-chamber-style-progressive-lunch-03-27-2012-5424
END:VEVENT

END:VCALENDAR
