BEGIN:VCALENDAR
VERSION:2.0
PRODID:-//ChamberMaster//Event Calendar 2.0//EN
METHOD:PUBLISH
X-PUBLISHED-TTL:P3D
REFRESH-INTERVAL:P3D
CALSCALE:GREGORIAN
BEGIN:VEVENT
DTSTART:20110322T163000Z
DTEND:20110322T180000Z
X-MICROSOFT-CDO-ALLDAYEVENT:FALSE
SUMMARY:Speed Networking - Progressive Lunch
DESCRIPTION:Join us for Beatrice Area Chamber of Commerce's annual \n\n\n\n"Progressive Lunch"\n\n...Building Relationships to Build Your Business\n\nsponsored by Penner Insurance Agency\n\n\n\nDid you know...that having a relationship with someone is the number one reason people do business with each other?\n\n\n\nTuesday\, March 22\n\n11:30 - 1 p.m.\n\nClassic's Bar & Grill\, 1301 Oak Street\, Beatrice\n\n\n\nRegister by March 17\n\n\n\nChamber Members - $7  \n\nNon-Chamber Members:  Contact Beatrice Area Chamber of Commerce for details\, (402)223-2338!\n\n\n\nwww.beatricechamber.com
X-ALT-DESC;FMTTYPE=text/html:<span style="font-family: arial"><span style="font-size: 16px"><span style="font-size: 12px">Join us for Beatrice Area Chamber of Commerce&#39\;s annual </span><br />\n<br />\n<strong>&quot\;Progressive Lunch&quot\;<br />\n...Building Relationships to Build Your Business</strong></span></span><br />\n<span style="font-size: 14px">sponsored by Penner Insurance Agency<br />\n<br />\n<em>Did you know...that having a relationship with someone is the number one reason people do business with each other?</em><br />\n<br />\n<strong>Tuesday\, March 22<br />\n11:30 - 1 p.m.<br />\nClassic&#39\;s Bar &amp\; Grill\, 1301 Oak Street\, Beatrice</strong><br />\n<br />\nRegister by March 17<br />\n<br />\nChamber Members - $7&nbsp\;&nbsp\;<br />\nNon-Chamber Members:&nbsp\; Contact Beatrice Area Chamber of Commerce for details\, (402)223-2338!</span><br />\n<br />\nwww.beatricechamber.com<br />\n<br />\n<br />\n
LOCATION:
UID:e.41.4197
SEQUENCE:3
DTSTAMP:20260424T211525Z
URL:https://business.beatricechamber.com/events/details/speed-networking-progressive-lunch-03-22-2011-4197
END:VEVENT

END:VCALENDAR
